BEGIN:VCALENDAR
VERSION:2.0
PRODID:icalendar-ruby
CALSCALE:GREGORIAN
METHOD:PUBLISH
BEGIN:VEVENT
DTSTAMP:20260420T163527Z
UID:11-1937863@tlcsilverton.com
DTSTART:20260827T013000Z
DTEND:20260827T030000Z
CLASS:PUBLIC
CREATED:20260420T073153
DESCRIPTION:
LAST-MODIFIED:20260420T073153
LOCATION:Eastman Household
SUMMARY:Women's Bible Study
URL;VALUE=URI:https://www.tlcsilverton.com/events/womens-bible-study/2026-0
 8-26
ATTACH;FILENAME=women%27s-bible-study.jpeg;FMTTYPE=image/jpeg:https://dq5pw
 pg1q8ru0.cloudfront.net/2024/04/17/20/57/18/43d8feae-4d73-4630-ba3a-c5cf9b
 b536d6/women%2527s-bible-study.jpeg
END:VEVENT
END:VCALENDAR
