BEGIN:VCALENDAR
VERSION:2.0
PRODID:icalendar-ruby
CALSCALE:GREGORIAN
METHOD:PUBLISH
BEGIN:VEVENT
DTSTAMP:20260419T195858Z
UID:8-1930364@tlcsilverton.com
DTSTART:20250610T013000Z
DTEND:20250610T030000Z
CLASS:PUBLIC
CREATED:20260419T093041
DESCRIPTION:
LAST-MODIFIED:20260419T093041
LOCATION:Brown Household
SUMMARY:Small Group Bible Study
URL;VALUE=URI:https://www.tlcsilverton.com/events/small-group-bible-study/2
 025-06-09
ATTACH;FILENAME=small-group-study.jpg;FMTTYPE=image/jpeg:https://dq5pwpg1q8
 ru0.cloudfront.net/2024/04/17/20/59/42/8d3a92b0-d166-4c18-9c7c-f94ead20c2c
 f/small-group-study.jpg
END:VEVENT
END:VCALENDAR
